BEGIN:VCALENDAR
VERSION:2.0
PRODID:Events Booking
BEGIN:VEVENT
UID:69e8e8cae4fe8
SUMMARY:CM2-06 EN
DESCRIPTION:Achieving Enterprise CM2 Implementation
DTSTART:20261110T090000Z
DTEND:20261112T150000Z
DTSTAMP:20260422T152706Z
ORGANIZER;CN=IpX Europe GmbH:MAILTO:thomas.schwartz@ipxeu.com
END:VEVENT
END:VCALENDAR