BEGIN:VCALENDAR
VERSION:2.0
PRODID:Events Booking
BEGIN:VEVENT
UID:69e8e8a595fc4
SUMMARY:CM2-05 EN
DESCRIPTION:The Complexities of Lifecycle Sustainment
DTSTART:20261027T090000Z
DTEND:20261029T150000Z
DTSTAMP:20260422T152629Z
ORGANIZER;CN=IpX Europe GmbH:MAILTO:thomas.schwartz@ipxeu.com
END:VEVENT
END:VCALENDAR