BEGIN:VCALENDAR
VERSION:2.0
PRODID:Events Booking
BEGIN:VEVENT
UID:69e8e8b4e2fe7
SUMMARY:CM2-02 EN
DESCRIPTION:Requirements and the CM2 Baseline
DTSTART:20260929T090000Z
DTEND:20261001T150000Z
DTSTAMP:20260422T152644Z
ORGANIZER;CN=IpX Europe GmbH:MAILTO:thomas.schwartz@ipxeu.com
END:VEVENT
END:VCALENDAR