BEGIN:VCALENDAR
VERSION:2.0
PRODID:Events Booking
BEGIN:VEVENT
UID:69e8e8a5c8d73
SUMMARY:CM2-08 EN
DESCRIPTION:Sustainable Organizational Transformation
DTSTART:20260601T090000Z
DTEND:20260603T150000Z
DTSTAMP:20260422T152629Z
ORGANIZER;CN=IpX Europe GmbH:MAILTO:thomas.schwartz@ipxeu.com
END:VEVENT
END:VCALENDAR