BEGIN:VCALENDAR
VERSION:2.0
PRODID:Events Booking
BEGIN:VEVENT
UID:69e8d84dbff46
SUMMARY:CM2-07 EN
DESCRIPTION:Executing the Digital Thread and Twin
DTSTART:20260519T090000Z
DTEND:20260521T150000Z
DTSTAMP:20260422T141645Z
ORGANIZER;CN=IpX Europe GmbH:MAILTO:thomas.schwartz@ipxeu.com
END:VEVENT
END:VCALENDAR