BEGIN:VCALENDAR
VERSION:2.0
PRODID:Events Booking
BEGIN:VEVENT
UID:69e9d9fb1e83e
SUMMARY:CM2-06 EN
DESCRIPTION:Achieving Enterprise CM2 Implementation
DTSTART:20251111T090000Z
DTEND:20251113T150000Z
DTSTAMP:20260423T083611Z
ORGANIZER;CN=IpX Europe GmbH:MAILTO:thomas.schwartz@ipxeu.com
END:VEVENT
END:VCALENDAR