BEGIN:VCALENDAR
VERSION:2.0
PRODID:Events Booking
BEGIN:VEVENT
UID:69e9d8f694ed0
SUMMARY:CM2-04 EN
DESCRIPTION:The CM2 Change Process
DTSTART:20251021T090000Z
DTEND:20251023T150000Z
DTSTAMP:20260423T083150Z
ORGANIZER;CN=IpX Europe GmbH:MAILTO:thomas.schwartz@ipxeu.com
END:VEVENT
END:VCALENDAR