BEGIN:VCALENDAR
VERSION:2.0
PRODID:Events Booking
BEGIN:VEVENT
UID:69e8d8d62245b
SUMMARY:CM2-06 DE
DESCRIPTION:Unternehmensweite CM2 Implementierung
DTSTART:20261201T090000Z
DTEND:20261203T150000Z
DTSTAMP:20260422T141902Z
ORGANIZER;CN=IpX Europe GmbH:MAILTO:thomas.schwartz@ipxeu.com
END:VEVENT
END:VCALENDAR