BEGIN:VCALENDAR
VERSION:2.0
PRODID:Events Booking
BEGIN:VEVENT
UID:69e8c88fa405a
SUMMARY:CM2-05 DE
DESCRIPTION:Management über alle Produkt-Lebenszyklusphasen
DTSTART:20261124T090000Z
DTEND:20261126T150000Z
DTSTAMP:20260422T130935Z
ORGANIZER;CN=IpX Europe GmbH:MAILTO:thomas.schwartz@ipxeu.com
END:VEVENT
END:VCALENDAR