BEGIN:VCALENDAR
VERSION:2.0
PRODID:Events Booking
BEGIN:VEVENT
UID:69e8d89cd8eea
SUMMARY:CM2-04 DE
DESCRIPTION:Der CM2 Änderungsprozess
DTSTART:20261117T090000Z
DTEND:20261119T150000Z
DTSTAMP:20260422T141804Z
ORGANIZER;CN=IpX Europe GmbH:MAILTO:thomas.schwartz@ipxeu.com
END:VEVENT
END:VCALENDAR