BEGIN:VCALENDAR
VERSION:2.0
PRODID:Events Booking
BEGIN:VEVENT
UID:69e8c883ebcc9
SUMMARY:CM2-03 DE
DESCRIPTION:Grundlagen des Change Managements
DTSTART:20261103T090000Z
DTEND:20261105T150000Z
DTSTAMP:20260422T130923Z
ORGANIZER;CN=IpX Europe GmbH:MAILTO:thomas.schwartz@ipxeu.com
END:VEVENT
END:VCALENDAR