BEGIN:VCALENDAR
VERSION:2.0
PRODID:Events Booking
BEGIN:VEVENT
UID:69e8ea880f8c8
SUMMARY:CM2-03 EN
DESCRIPTION:Grundlagen des Change Managements
DTSTART:20261013T090000Z
DTEND:20261015T150000Z
DTSTAMP:20260422T153432Z
ORGANIZER;CN=IpX Europe GmbH:MAILTO:thomas.schwartz@ipxeu.com
END:VEVENT
END:VCALENDAR