BEGIN:VCALENDAR
VERSION:2.0
PRODID:Events Booking
BEGIN:VEVENT
UID:69e8d8efbb256
SUMMARY:CM2-02 DE
DESCRIPTION:Requirements und die CM2 Baseline - 2 Tage Kurs verteilt auf 3 
 virtuelle Sessions
DTSTART:20261006T090000Z
DTEND:20261008T150000Z
DTSTAMP:20260422T141927Z
ORGANIZER;CN=IpX Europe GmbH:MAILTO:thomas.schwartz@ipxeu.com
END:VEVENT
END:VCALENDAR