BEGIN:VCALENDAR
VERSION:2.0
PRODID:Events Booking
BEGIN:VEVENT
UID:69e8ebd17901c
SUMMARY:CM2-01 EN
DESCRIPTION:Das Fundament für Operational Exellence
DTSTART:20260922T090000Z
DTEND:20260924T150000Z
DTSTAMP:20260422T154001Z
ORGANIZER;CN=IpX Europe GmbH:MAILTO:thomas.schwartz@ipxeu.com
END:VEVENT
END:VCALENDAR