BEGIN:VCALENDAR
VERSION:2.0
PRODID:Events Booking
BEGIN:VEVENT
UID:69e8c8b2ecb2d
SUMMARY:CM2-01 DE
DESCRIPTION:Das Fundament für Operational Exellence
DTSTART:20260915T090000Z
DTEND:20260917T150000Z
DTSTAMP:20260422T131010Z
ORGANIZER;CN=IpX Europe GmbH:MAILTO:thomas.schwartz@ipxeu.com
END:VEVENT
END:VCALENDAR