BEGIN:VCALENDAR
VERSION:2.0
PRODID:Events Booking
BEGIN:VEVENT
UID:69e8ebfe88c6c
SUMMARY:CM2-06 EN
DESCRIPTION:Unternehmensweite CM2 Implementierung
DTSTART:20260511T090000Z
DTEND:20260513T150000Z
DTSTAMP:20260422T154046Z
ORGANIZER;CN=IpX Europe GmbH:MAILTO:thomas.schwartz@ipxeu.com
END:VEVENT
END:VCALENDAR