BEGIN:VCALENDAR
VERSION:2.0
PRODID:Events Booking
BEGIN:VEVENT
UID:69e8c860195d1
SUMMARY:CM2-06 DE
DESCRIPTION:Unternehmensweite CM2 Implementierung
DTSTART:20260428T090000Z
DTEND:20260430T150000Z
DTSTAMP:20260422T130848Z
ORGANIZER;CN=IpX Europe GmbH:MAILTO:thomas.schwartz@ipxeu.com
END:VEVENT
END:VCALENDAR