BEGIN:VCALENDAR
VERSION:2.0
PRODID:Events Booking
BEGIN:VEVENT
UID:69e748196d223
SUMMARY:CM2-04 EN
DESCRIPTION:Der CM2 Änderungsprozess
DTSTART:20260324T090000Z
DTEND:20260326T150000Z
DTSTAMP:20260421T094913Z
ORGANIZER;CN=IpX Europe GmbH:MAILTO:thomas.schwartz@ipxeu.com
END:VEVENT
END:VCALENDAR