BEGIN:VCALENDAR
VERSION:2.0
PRODID:Events Booking
BEGIN:VEVENT
UID:69e9eb4f5de70
SUMMARY:CM2-05 DE
DESCRIPTION:Management über alle Produkt-Lebenszyklusphasen
DTSTART:20251125T090000Z
DTEND:20251127T150000Z
DTSTAMP:20260423T095007Z
ORGANIZER;CN=IpX Europe GmbH:MAILTO:thomas.schwartz@ipxeu.com
END:VEVENT
END:VCALENDAR