BEGIN:VCALENDAR
VERSION:2.0
PRODID:Events Booking
BEGIN:VEVENT
UID:69e9eb07177db
SUMMARY:CM2-04 DE
DESCRIPTION:Der CM2 Änderungsprozess
DTSTART:20251118T090000Z
DTEND:20251120T150000Z
DTSTAMP:20260423T094855Z
ORGANIZER;CN=IpX Europe GmbH:MAILTO:thomas.schwartz@ipxeu.com
END:VEVENT
END:VCALENDAR