BEGIN:VCALENDAR
VERSION:2.0
PRODID:Events Booking
BEGIN:VEVENT
UID:69e9ec2bc0ff9
SUMMARY:CM2-05 EN
DESCRIPTION:Komplexität der Lebensdauererhaltung
DTSTART:20251028T090000Z
DTEND:20251030T150000Z
DTSTAMP:20260423T095347Z
ORGANIZER;CN=IpX Europe GmbH:MAILTO:thomas.schwartz@ipxeu.com
END:VEVENT
END:VCALENDAR