BEGIN:VCALENDAR
VERSION:2.0
PRODID:Events Booking
BEGIN:VEVENT
UID:69e9e8fd20758
SUMMARY:CM2-03 EN
DESCRIPTION:Grundlagen des Change Managements
DTSTART:20251007T090000Z
DTEND:20251009T150000Z
DTSTAMP:20260423T094013Z
ORGANIZER;CN=IpX Europe GmbH:MAILTO:thomas.schwartz@ipxeu.com
END:VEVENT
END:VCALENDAR