BEGIN:VCALENDAR
VERSION:2.0
PRODID:Events Booking
BEGIN:VEVENT
UID:69e734623f935
SUMMARY:CM2-05 DE
DESCRIPTION:Management über alle Produkt-Lebenszyklusphasen
DTSTART:20250318T090000Z
DTEND:20250320T150000Z
DTSTAMP:20260421T082506Z
ORGANIZER;CN=IpX Europe GmbH:MAILTO:thomas.schwartz@ipxeu.com
END:VEVENT
END:VCALENDAR